BEGIN:VCALENDAR
VERSION:2.0
PRODID:icalendar-ruby
CALSCALE:GREGORIAN
METHOD:PUBLISH
BEGIN:VEVENT
DTSTAMP:20260422T083754Z
UID:8-387535@inezfwb.com
DTSTART:20261027T220000Z
DTEND:20261027T233000Z
CLASS:PUBLIC
CREATED:20260421T213223
DESCRIPTION:
LAST-MODIFIED:20260421T213223
LOCATION:
SUMMARY:Celebrate Recovery
URL;VALUE=URI:https://www.inezfwb.com/events/celebrate-recovery/2026-10-27
END:VEVENT
END:VCALENDAR
