BEGIN:VCALENDAR
VERSION:2.0
PRODID:icalendar-ruby
CALSCALE:GREGORIAN
METHOD:PUBLISH
BEGIN:VEVENT
DTSTAMP:20260423T061536Z
UID:6-389121@inezfwb.com
DTSTART:20260927T140000Z
DTEND:20260927T145000Z
CLASS:PUBLIC
CREATED:20260422T231132
DESCRIPTION:
LAST-MODIFIED:20260422T231132
LOCATION:
SUMMARY:Sunday School
URL;VALUE=URI:https://www.inezfwb.com/events/sunday-school/2026-09-27
END:VEVENT
END:VCALENDAR
