BEGIN:VCALENDAR
VERSION:2.0
PRODID:icalendar-ruby
CALSCALE:GREGORIAN
METHOD:PUBLISH
BEGIN:VEVENT
DTSTAMP:20260423T090146Z
UID:6-389123@inezfwb.com
DTSTART:20261011T140000Z
DTEND:20261011T145000Z
CLASS:PUBLIC
CREATED:20260422T231132
DESCRIPTION:
LAST-MODIFIED:20260422T231132
LOCATION:
SUMMARY:Sunday School
URL;VALUE=URI:https://www.inezfwb.com/events/sunday-school/2026-10-11
END:VEVENT
END:VCALENDAR
