BEGIN:VCALENDAR
VERSION:2.0
PRODID:icalendar-ruby
CALSCALE:GREGORIAN
METHOD:PUBLISH
BEGIN:VEVENT
DTSTAMP:20260423T101607Z
UID:6-389124@inezfwb.com
DTSTART:20261018T140000Z
DTEND:20261018T145000Z
CLASS:PUBLIC
CREATED:20260422T231132
DESCRIPTION:
LAST-MODIFIED:20260422T231132
LOCATION:
SUMMARY:Sunday School
URL;VALUE=URI:https://www.inezfwb.com/events/sunday-school/2026-10-18
END:VEVENT
END:VCALENDAR
