BEGIN:VCALENDAR
VERSION:2.0
PRODID:icalendar-ruby
CALSCALE:GREGORIAN
METHOD:PUBLISH
BEGIN:VEVENT
DTSTAMP:20260423T130637Z
UID:6-389416@inezfwb.com
DTSTART:20261101T150000Z
DTEND:20261101T155000Z
CLASS:PUBLIC
CREATED:20260423T084149
DESCRIPTION:
LAST-MODIFIED:20260423T084149
LOCATION:
SUMMARY:Sunday School
URL;VALUE=URI:https://www.inezfwb.com/events/sunday-school/2026-11-01
END:VEVENT
END:VCALENDAR
